BEGIN:VCALENDAR
VERSION:2.0
PRODID:-//Indivisible Hingham Hull - ECPv6.15.20//NONSGML v1.0//EN
CALSCALE:GREGORIAN
METHOD:PUBLISH
X-ORIGINAL-URL:https://indivisiblehinghamhull.org
X-WR-CALDESC:Events for Indivisible Hingham Hull
REFRESH-INTERVAL;VALUE=DURATION:PT1H
X-Robots-Tag:noindex
X-PUBLISHED-TTL:PT1H
BEGIN:VTIMEZONE
TZID:America/New_York
BEGIN:DAYLIGHT
TZOFFSETFROM:-0500
TZOFFSETTO:-0400
TZNAME:EDT
DTSTART:20240310T070000
END:DAYLIGHT
BEGIN:STANDARD
TZOFFSETFROM:-0400
TZOFFSETTO:-0500
TZNAME:EST
DTSTART:20241103T060000
END:STANDARD
BEGIN:DAYLIGHT
TZOFFSETFROM:-0500
TZOFFSETTO:-0400
TZNAME:EDT
DTSTART:20250309T070000
END:DAYLIGHT
BEGIN:STANDARD
TZOFFSETFROM:-0400
TZOFFSETTO:-0500
TZNAME:EST
DTSTART:20251102T060000
END:STANDARD
BEGIN:DAYLIGHT
TZOFFSETFROM:-0500
TZOFFSETTO:-0400
TZNAME:EDT
DTSTART:20260308T070000
END:DAYLIGHT
BEGIN:STANDARD
TZOFFSETFROM:-0400
TZOFFSETTO:-0500
TZNAME:EST
DTSTART:20261101T060000
END:STANDARD
END:VTIMEZONE
BEGIN:VEVENT
DTSTART;TZID=America/New_York:20251203T103000
DTEND;TZID=America/New_York:20251203T113000
DTSTAMP:20260419T090651
CREATED:20251027T164014Z
LAST-MODIFIED:20251125T144921Z
UID:10000059-1764757800-1764761400@indivisiblehinghamhull.org
SUMMARY:Stand Up\, Speak Out-Bathing Beach
DESCRIPTION:Bring a friend or five! [Note alternative location for the month of December to accommodate holiday parking/traffic for our merchants in downtown Hingham.]
URL:https://indivisiblehinghamhull.org/event/stand-up-speak-out-5/
LOCATION:Hingham Harbor Bandstand (3A)\, Otis Street\, Hingham\, MA\, 02043\, United States
CATEGORIES:Rallies & Standouts
ATTACH;FMTTYPE=image/jpeg:https://indivisiblehinghamhull.org/wp-content/uploads/2025/07/stand-up-speak-out-logo.jpg
END:VEVENT
BEGIN:VEVENT
DTSTART;TZID=America/New_York:20251206T103000
DTEND;TZID=America/New_York:20251206T113000
DTSTAMP:20260419T090651
CREATED:20250929T201345Z
LAST-MODIFIED:20250929T201345Z
UID:10000049-1765017000-1765020600@indivisiblehinghamhull.org
SUMMARY:Stand Out at Hingham Harbor (3A)
DESCRIPTION:Join us every 1st and 3rd Saturday of the month! Bring signs and friends! \nA core principle behind all No Kings events is a commitment to nonviolent action. We expect all participants to seek to de-escalate any potential confrontation with those who disagree with our values and to act lawfully at these events. Weapons of any kind\, including those legally permitted\, should not be brought to events.
URL:https://indivisiblehinghamhull.org/event/stand-out-at-hingham-harbor-3a-5/
LOCATION:Across from Red Parrot\, Hull\, MA\, United States
CATEGORIES:Rallies & Standouts
ATTACH;FMTTYPE=image/jpeg:https://indivisiblehinghamhull.org/wp-content/uploads/2025/07/standout-image-placeholder.jpg
ORGANIZER;CN="Indivisible Hingham Hull":MAILTO:info@indivisiblehinghamhull.org
END:VEVENT
BEGIN:VEVENT
DTSTART;TZID=America/New_York:20251210T103000
DTEND;TZID=America/New_York:20251210T113000
DTSTAMP:20260419T090651
CREATED:20251027T164050Z
LAST-MODIFIED:20251125T145045Z
UID:10000060-1765362600-1765366200@indivisiblehinghamhull.org
SUMMARY:Stand Up\, Speak Out Bathing Beach
DESCRIPTION:Bring a friend or five! [Note alternative location for the month of December to accommodate holiday parking/traffic for our merchants in downtown Hingham.]
URL:https://indivisiblehinghamhull.org/event/stand-up-speak-out-6/
LOCATION:Hingham Harbor Bandstand (3A)\, Otis Street\, Hingham\, MA\, 02043\, United States
CATEGORIES:Rallies & Standouts
ATTACH;FMTTYPE=image/jpeg:https://indivisiblehinghamhull.org/wp-content/uploads/2025/07/stand-up-speak-out-logo.jpg
END:VEVENT
BEGIN:VEVENT
DTSTART;TZID=America/New_York:20251213T103000
DTEND;TZID=America/New_York:20251213T113000
DTSTAMP:20260419T090651
CREATED:20250929T201240Z
LAST-MODIFIED:20250929T201240Z
UID:10000048-1765621800-1765625400@indivisiblehinghamhull.org
SUMMARY:Hull Saturday Standout
DESCRIPTION:Keep up the good work peacefully protesting the rise of authoritarianism. We will be near the DCR parking lot/beach across from the Red Parrot! \nJoin us every 2nd Saturday of the month! Bring signs and friends! \nA core principle behind all No Kings events is a commitment to nonviolent action. We expect all participants to seek to de-escalate any potential confrontation with those who disagree with our values and to act lawfully at these events. Weapons of any kind\, including those legally permitted\, should not be brought to events.
URL:https://indivisiblehinghamhull.org/event/hull-saturday-standout-3/
LOCATION:Across from Red Parrot\, Hull\, MA\, United States
CATEGORIES:Rallies & Standouts
ATTACH;FMTTYPE=image/jpeg:https://indivisiblehinghamhull.org/wp-content/uploads/2025/09/hull-standout.jpg
ORGANIZER;CN="Indivisible Hingham Hull":MAILTO:info@indivisiblehinghamhull.org
END:VEVENT
BEGIN:VEVENT
DTSTART;TZID=America/New_York:20251217T103000
DTEND;TZID=America/New_York:20251217T113000
DTSTAMP:20260419T090651
CREATED:20251027T164125Z
LAST-MODIFIED:20251125T144957Z
UID:10000061-1765967400-1765971000@indivisiblehinghamhull.org
SUMMARY:Stand Up\, Speak Out Bathing Beach
DESCRIPTION:Bring a friend or five! [Note alternative location for the month of December to accommodate holiday parking/traffic for our merchants in downtown Hingham.]
URL:https://indivisiblehinghamhull.org/event/stand-up-speak-out-7/
LOCATION:Hingham Square\, North Street\, Hingham\, MA\, 02043\, United States
CATEGORIES:Rallies & Standouts
ATTACH;FMTTYPE=image/jpeg:https://indivisiblehinghamhull.org/wp-content/uploads/2025/07/stand-up-speak-out-logo.jpg
END:VEVENT
BEGIN:VEVENT
DTSTART;TZID=America/New_York:20251220T103000
DTEND;TZID=America/New_York:20251220T113000
DTSTAMP:20260419T090651
CREATED:20250929T201424Z
LAST-MODIFIED:20250929T201424Z
UID:10000050-1766226600-1766230200@indivisiblehinghamhull.org
SUMMARY:Stand Out at Hingham Harbor (3A)
DESCRIPTION:Join us every 1st and 3rd Saturday of the month! Bring signs and friends! \nA core principle behind all No Kings events is a commitment to nonviolent action. We expect all participants to seek to de-escalate any potential confrontation with those who disagree with our values and to act lawfully at these events. Weapons of any kind\, including those legally permitted\, should not be brought to events.
URL:https://indivisiblehinghamhull.org/event/stand-out-at-hingham-harbor-3a-6/
LOCATION:Hingham Harbor Bandstand (3A)\, Otis Street\, Hingham\, MA\, 02043\, United States
CATEGORIES:Rallies & Standouts
ATTACH;FMTTYPE=image/jpeg:https://indivisiblehinghamhull.org/wp-content/uploads/2025/07/standout-image-placeholder.jpg
ORGANIZER;CN="Indivisible Hingham Hull":MAILTO:info@indivisiblehinghamhull.org
END:VEVENT
BEGIN:VEVENT
DTSTART;TZID=America/New_York:20251224T103000
DTEND;TZID=America/New_York:20251224T113000
DTSTAMP:20260419T090651
CREATED:20251027T164212Z
LAST-MODIFIED:20251125T145027Z
UID:10000062-1766572200-1766575800@indivisiblehinghamhull.org
SUMMARY:Stand Up\, Speak Out Bathing Beach
DESCRIPTION:Bring a friend or five! [Note alternative location for the month of December to accommodate holiday parking/traffic for our merchants in downtown Hingham.]
URL:https://indivisiblehinghamhull.org/event/stand-up-speak-out-8/
LOCATION:Hingham Harbor Bandstand (3A)\, Otis Street\, Hingham\, MA\, 02043\, United States
CATEGORIES:Rallies & Standouts
ATTACH;FMTTYPE=image/jpeg:https://indivisiblehinghamhull.org/wp-content/uploads/2025/07/stand-up-speak-out-logo.jpg
END:VEVENT
BEGIN:VEVENT
DTSTART;TZID=America/New_York:20251231T103000
DTEND;TZID=America/New_York:20251231T113000
DTSTAMP:20260419T090651
CREATED:20251027T164248Z
LAST-MODIFIED:20251027T164248Z
UID:10000063-1767177000-1767180600@indivisiblehinghamhull.org
SUMMARY:Stand Up\, Speak Out Hingham Square
DESCRIPTION:Join us in Hingham Square! Bring a friend or five!
URL:https://indivisiblehinghamhull.org/event/stand-up-speak-out-hingham-square-10/
LOCATION:Hingham Square\, North Street\, Hingham\, MA\, 02043\, United States
CATEGORIES:Rallies & Standouts
ATTACH;FMTTYPE=image/jpeg:https://indivisiblehinghamhull.org/wp-content/uploads/2025/07/stand-up-speak-out-logo.jpg
END:VEVENT
END:VCALENDAR