BEGIN:VCALENDAR
VERSION:2.0
PRODID:-//Indivisible Hingham Hull - ECPv6.15.20//NONSGML v1.0//EN
CALSCALE:GREGORIAN
METHOD:PUBLISH
X-ORIGINAL-URL:https://indivisiblehinghamhull.org
X-WR-CALDESC:Events for Indivisible Hingham Hull
REFRESH-INTERVAL;VALUE=DURATION:PT1H
X-Robots-Tag:noindex
X-PUBLISHED-TTL:PT1H
BEGIN:VTIMEZONE
TZID:America/New_York
BEGIN:DAYLIGHT
TZOFFSETFROM:-0500
TZOFFSETTO:-0400
TZNAME:EDT
DTSTART:20240310T070000
END:DAYLIGHT
BEGIN:STANDARD
TZOFFSETFROM:-0400
TZOFFSETTO:-0500
TZNAME:EST
DTSTART:20241103T060000
END:STANDARD
BEGIN:DAYLIGHT
TZOFFSETFROM:-0500
TZOFFSETTO:-0400
TZNAME:EDT
DTSTART:20250309T070000
END:DAYLIGHT
BEGIN:STANDARD
TZOFFSETFROM:-0400
TZOFFSETTO:-0500
TZNAME:EST
DTSTART:20251102T060000
END:STANDARD
BEGIN:DAYLIGHT
TZOFFSETFROM:-0500
TZOFFSETTO:-0400
TZNAME:EDT
DTSTART:20260308T070000
END:DAYLIGHT
BEGIN:STANDARD
TZOFFSETFROM:-0400
TZOFFSETTO:-0500
TZNAME:EST
DTSTART:20261101T060000
END:STANDARD
END:VTIMEZONE
BEGIN:VEVENT
DTSTART;TZID=America/New_York:20250915T193000
DTEND;TZID=America/New_York:20250915T210000
DTSTAMP:20260423T150502
CREATED:20250827T155801Z
LAST-MODIFIED:20250827T181600Z
UID:10000028-1757964600-1757970000@indivisiblehinghamhull.org
SUMMARY:Webinar: Safety & De-escalation at Rallies & Public Meetings
DESCRIPTION:Join Indivisible Hingham-Hull on Monday\, September 15th 7:30 PM-9:00 PM\, via Zoom\, for Training 101 for Safety and De-escalation at Rallies and Public Meetings presented by Bill Maddocks\, skilled trainer from New Hampshire Peace Action (NHPA). Learn practical peace keeping skills used by NHPA whose mission is to educate\, mobilize and organize for a peaceful and just future for all. We will also learn about Harnessing Our Power to End Political Violence (HOPE-PV)\, a powerful strategic process designed to help people across the United States counter political violence. It aims to empower individuals and strengthen communities to make political violence backfire against those who incite\, threaten\, and enact it. \nPlease register here
URL:https://indivisiblehinghamhull.org/event/safety-de-escalation-at-rallies-public-meetings/
LOCATION:Indivisible Online Event
CATEGORIES:Virtual Events - Educational
ATTACH;FMTTYPE=image/jpeg:https://indivisiblehinghamhull.org/wp-content/uploads/2025/08/DSC_5190.jpg
ORGANIZER;CN="Indivisible Hingham Hull":MAILTO:info@indivisiblehinghamhull.org
END:VEVENT
END:VCALENDAR