BEGIN:VCALENDAR
VERSION:2.0
PRODID:-//Indivisible Hingham Hull - ECPv6.15.20//NONSGML v1.0//EN
CALSCALE:GREGORIAN
METHOD:PUBLISH
X-WR-CALNAME:Indivisible Hingham Hull
X-ORIGINAL-URL:https://indivisiblehinghamhull.org
X-WR-CALDESC:Events for Indivisible Hingham Hull
REFRESH-INTERVAL;VALUE=DURATION:PT1H
X-Robots-Tag:noindex
X-PUBLISHED-TTL:PT1H
BEGIN:VTIMEZONE
TZID:America/New_York
BEGIN:DAYLIGHT
TZOFFSETFROM:-0500
TZOFFSETTO:-0400
TZNAME:EDT
DTSTART:20240310T070000
END:DAYLIGHT
BEGIN:STANDARD
TZOFFSETFROM:-0400
TZOFFSETTO:-0500
TZNAME:EST
DTSTART:20241103T060000
END:STANDARD
BEGIN:DAYLIGHT
TZOFFSETFROM:-0500
TZOFFSETTO:-0400
TZNAME:EDT
DTSTART:20250309T070000
END:DAYLIGHT
BEGIN:STANDARD
TZOFFSETFROM:-0400
TZOFFSETTO:-0500
TZNAME:EST
DTSTART:20251102T060000
END:STANDARD
BEGIN:DAYLIGHT
TZOFFSETFROM:-0500
TZOFFSETTO:-0400
TZNAME:EDT
DTSTART:20260308T070000
END:DAYLIGHT
BEGIN:STANDARD
TZOFFSETFROM:-0400
TZOFFSETTO:-0500
TZNAME:EST
DTSTART:20261101T060000
END:STANDARD
END:VTIMEZONE
BEGIN:VEVENT
DTSTART;TZID=America/New_York:20250918T173000
DTEND;TZID=America/New_York:20250918T183000
DTSTAMP:20260421T082133
CREATED:20250831T212335Z
LAST-MODIFIED:20250831T212754Z
UID:10000034-1758216600-1758220200@indivisiblehinghamhull.org
SUMMARY:Hull Standout
DESCRIPTION:Keep up the good work peacefully protesting the rise of authoritarianism. We will be near the DCR parking lot/beach across from the Red Parrot!
URL:https://indivisiblehinghamhull.org/event/hull-standout-3/
LOCATION:Across from Red Parrot\, Hull\, MA\, United States
CATEGORIES:Rallies & Standouts
ATTACH;FMTTYPE=image/jpeg:https://indivisiblehinghamhull.org/wp-content/uploads/2025/07/stand-up-speak-out-logo.jpg
ORGANIZER;CN="Indivisible Hingham Hull":MAILTO:info@indivisiblehinghamhull.org
END:VEVENT
BEGIN:VEVENT
DTSTART;TZID=America/New_York:20250917T103000
DTEND;TZID=America/New_York:20250917T113000
DTSTAMP:20260421T082133
CREATED:20250831T211742Z
LAST-MODIFIED:20250831T211742Z
UID:10000031-1758105000-1758108600@indivisiblehinghamhull.org
SUMMARY:Stand up\, Speak Out in Hingham Square!
DESCRIPTION:Join us in Hingham Square! Bring a friend or five!
URL:https://indivisiblehinghamhull.org/event/stand-up-speak-out-in-hingham-square-4/
LOCATION:Hingham Square\, North Street\, Hingham\, MA\, 02043\, United States
CATEGORIES:Rallies & Standouts
ATTACH;FMTTYPE=image/jpeg:https://indivisiblehinghamhull.org/wp-content/uploads/2025/07/stand-up-speak-out-logo.jpg
END:VEVENT
BEGIN:VEVENT
DTSTART;TZID=America/New_York:20250915T193000
DTEND;TZID=America/New_York:20250915T210000
DTSTAMP:20260421T082133
CREATED:20250827T155801Z
LAST-MODIFIED:20250827T181600Z
UID:10000028-1757964600-1757970000@indivisiblehinghamhull.org
SUMMARY:Webinar: Safety & De-escalation at Rallies & Public Meetings
DESCRIPTION:Join Indivisible Hingham-Hull on Monday\, September 15th 7:30 PM-9:00 PM\, via Zoom\, for Training 101 for Safety and De-escalation at Rallies and Public Meetings presented by Bill Maddocks\, skilled trainer from New Hampshire Peace Action (NHPA). Learn practical peace keeping skills used by NHPA whose mission is to educate\, mobilize and organize for a peaceful and just future for all. We will also learn about Harnessing Our Power to End Political Violence (HOPE-PV)\, a powerful strategic process designed to help people across the United States counter political violence. It aims to empower individuals and strengthen communities to make political violence backfire against those who incite\, threaten\, and enact it. \nPlease register here
URL:https://indivisiblehinghamhull.org/event/safety-de-escalation-at-rallies-public-meetings/
LOCATION:Indivisible Online Event
CATEGORIES:Virtual Events - Educational
ATTACH;FMTTYPE=image/jpeg:https://indivisiblehinghamhull.org/wp-content/uploads/2025/08/DSC_5190.jpg
ORGANIZER;CN="Indivisible Hingham Hull":MAILTO:info@indivisiblehinghamhull.org
END:VEVENT
BEGIN:VEVENT
DTSTART;TZID=America/New_York:20250911T173000
DTEND;TZID=America/New_York:20250911T183000
DTSTAMP:20260421T082133
CREATED:20250831T212024Z
LAST-MODIFIED:20250831T212700Z
UID:10000033-1757611800-1757615400@indivisiblehinghamhull.org
SUMMARY:Hull Standout
DESCRIPTION:Keep up the good work peacefully protesting the rise of authoritarianism. We will be near the DCR parking lot/beach across from the Red Parrot!
URL:https://indivisiblehinghamhull.org/event/hull-standout-2/
LOCATION:Across from Red Parrot\, Hull\, MA\, United States
CATEGORIES:Rallies & Standouts
ATTACH;FMTTYPE=image/jpeg:https://indivisiblehinghamhull.org/wp-content/uploads/2025/08/Hull-Standout-august-Jennifer-Lynn-Photography.jpg
ORGANIZER;CN="Indivisible Hingham Hull":MAILTO:info@indivisiblehinghamhull.org
END:VEVENT
BEGIN:VEVENT
DTSTART;TZID=America/New_York:20250910T103000
DTEND;TZID=America/New_York:20250910T113000
DTSTAMP:20260421T082133
CREATED:20250831T211657Z
LAST-MODIFIED:20250831T211657Z
UID:10000030-1757500200-1757503800@indivisiblehinghamhull.org
SUMMARY:Stand Up\, Speak Out Hingham Square
DESCRIPTION:Join us in Hingham Square! Bring a friend or five!
URL:https://indivisiblehinghamhull.org/event/stand-up-speak-out-hingham-square-3/
LOCATION:Hingham Square\, North Street\, Hingham\, MA\, 02043\, United States
CATEGORIES:Rallies & Standouts
ATTACH;FMTTYPE=image/jpeg:https://indivisiblehinghamhull.org/wp-content/uploads/2025/07/stand-up-speak-out-logo.jpg
END:VEVENT
BEGIN:VEVENT
DTSTART;TZID=America/New_York:20250906T103000
DTEND;TZID=America/New_York:20250906T113000
DTSTAMP:20260421T082133
CREATED:20250820T162358Z
LAST-MODIFIED:20250820T162358Z
UID:10000026-1757154600-1757158200@indivisiblehinghamhull.org
SUMMARY:Saturday Stand Out at the Harbor
DESCRIPTION:Bring a sign\, a friend\, your convictions – or all three!
URL:https://indivisiblehinghamhull.org/event/saturday-stand-out-at-the-harbor/
LOCATION:Hingham Harbor Bandstand (3A)\, Otis Street\, Hingham\, MA\, 02043\, United States
CATEGORIES:Rallies & Standouts
ATTACH;FMTTYPE=image/jpeg:https://indivisiblehinghamhull.org/wp-content/uploads/2025/07/standout-image-placeholder.jpg
ORGANIZER;CN="Indivisible Hingham Hull":MAILTO:info@indivisiblehinghamhull.org
END:VEVENT
BEGIN:VEVENT
DTSTART;TZID=America/New_York:20250904T173000
DTEND;TZID=America/New_York:20250904T183000
DTSTAMP:20260421T082133
CREATED:20250815T165522Z
LAST-MODIFIED:20250815T165522Z
UID:10000021-1757007000-1757010600@indivisiblehinghamhull.org
SUMMARY:Standout in Hull!
DESCRIPTION:Keep up the good work peacefully protesting the rise of authoritarianism. We will be near the DCR parking lot/beach across from the Red Parrot!
URL:https://indivisiblehinghamhull.org/event/standout-in-hull-6/
LOCATION:Across from Red Parrot\, Hull\, MA\, United States
CATEGORIES:Rallies & Standouts
ATTACH;FMTTYPE=image/jpeg:https://indivisiblehinghamhull.org/wp-content/uploads/2025/08/Hull-Standout-august-Jennifer-Lynn-Photography.jpg
ORGANIZER;CN="Indivisible Hingham Hull":MAILTO:info@indivisiblehinghamhull.org
END:VEVENT
BEGIN:VEVENT
DTSTART;TZID=America/New_York:20250903T190000
DTEND;TZID=America/New_York:20250903T203000
DTSTAMP:20260421T082133
CREATED:20250820T161954Z
LAST-MODIFIED:20250830T203216Z
UID:10000024-1756926000-1756931400@indivisiblehinghamhull.org
SUMMARY:Indivisible Hingham Hull Monthly Meeting:One Million Rising
DESCRIPTION:At this month’s meeting\, we will drill down into opportunities for small acts of noncooperation with the Trump agenda using the “six pillars” discussed in the One Million Rising series.
URL:https://indivisiblehinghamhull.org/event/indivisible-hingham-hull-monthly-meeting/
LOCATION:Hingham Public Library\, 66 Leavitt street\, Hingham\, MA\, 02043\, United States
CATEGORIES:Meetings
ATTACH;FMTTYPE=image/png:https://indivisiblehinghamhull.org/wp-content/uploads/2025/07/IHH-Logo-800px.png
ORGANIZER;CN="Indivisible Hingham Hull":MAILTO:info@indivisiblehinghamhull.org
END:VEVENT
BEGIN:VEVENT
DTSTART;TZID=America/New_York:20250903T103000
DTEND;TZID=America/New_York:20250903T113000
DTSTAMP:20260421T082133
CREATED:20250831T211607Z
LAST-MODIFIED:20250831T211607Z
UID:10000029-1756895400-1756899000@indivisiblehinghamhull.org
SUMMARY:Stand up\, Speak Out!
DESCRIPTION:Join us in Hingham Square! Bring a friend or five!
URL:https://indivisiblehinghamhull.org/event/stand-up-speak-out-4/
LOCATION:Hingham Square\, North Street\, Hingham\, MA\, 02043\, United States
CATEGORIES:Rallies & Standouts
ATTACH;FMTTYPE=image/jpeg:https://indivisiblehinghamhull.org/wp-content/uploads/2025/07/stand-up-speak-out-logo.jpg
END:VEVENT
BEGIN:VEVENT
DTSTART;TZID=America/New_York:20250901T103000
DTEND;TZID=America/New_York:20250901T113000
DTSTAMP:20260421T082133
CREATED:20250820T162133Z
LAST-MODIFIED:20250826T134349Z
UID:10000025-1756722600-1756726200@indivisiblehinghamhull.org
SUMMARY:Workers Over Billionaires Rally at Hingham Harbor
DESCRIPTION:Democracy dies in the dark! Let’s keep the lights on and join in some fellowship and fun at a Labor Day rally near the  bandstand at Hingham Harbor from 1030 to 11:30 AM. DJ Jason of Hull Pride will be spinning some festive tunes during the rally.  \nWe encourage you to pack a lunch and hang out afterwards to enjoy the company and solidarity of friends and neighbors who are not willing to obey in advance!
URL:https://indivisiblehinghamhull.org/event/labor-day-rally-at-hingham-harbor/
LOCATION:Hingham Harbor Bandstand (3A)\, Otis Street\, Hingham\, MA\, 02043\, United States
CATEGORIES:Rallies & Standouts
ATTACH;FMTTYPE=image/jpeg:https://indivisiblehinghamhull.org/wp-content/uploads/2025/07/standout-image-placeholder.jpg
ORGANIZER;CN="Indivisible Hingham Hull":MAILTO:info@indivisiblehinghamhull.org
END:VEVENT
BEGIN:VEVENT
DTSTART;TZID=America/New_York:20250828T173000
DTEND;TZID=America/New_York:20250828T183000
DTSTAMP:20260421T082133
CREATED:20250815T165425Z
LAST-MODIFIED:20250815T165425Z
UID:10000020-1756402200-1756405800@indivisiblehinghamhull.org
SUMMARY:Standout in Hull!
DESCRIPTION:Keep up the good work peacefully protesting the rise of authoritarianism. We will be near the DCR parking lot/beach across from the Red Parrot!
URL:https://indivisiblehinghamhull.org/event/standout-in-hull-5/
LOCATION:Across from Red Parrot\, Hull\, MA\, United States
CATEGORIES:Rallies & Standouts
ATTACH;FMTTYPE=image/jpeg:https://indivisiblehinghamhull.org/wp-content/uploads/2025/08/Hull-Standout-august-Jennifer-Lynn-Photography.jpg
ORGANIZER;CN="Indivisible Hingham Hull":MAILTO:info@indivisiblehinghamhull.org
END:VEVENT
BEGIN:VEVENT
DTSTART;TZID=America/New_York:20250827T103000
DTEND;TZID=America/New_York:20250827T113000
DTSTAMP:20260421T082133
CREATED:20250815T165742Z
LAST-MODIFIED:20250815T165742Z
UID:10000023-1756290600-1756294200@indivisiblehinghamhull.org
SUMMARY:Stand Up\, Speak Out Hingham Square
DESCRIPTION:Bring a sign\, a flag\, a friend or all three!
URL:https://indivisiblehinghamhull.org/event/stand-up-speak-out-hingham-square-2/
LOCATION:Hingham Square\, North Street\, Hingham\, MA\, 02043\, United States
CATEGORIES:Rallies & Standouts
ATTACH;FMTTYPE=image/jpeg:https://indivisiblehinghamhull.org/wp-content/uploads/2025/07/stand-up-speak-out-logo.jpg
END:VEVENT
BEGIN:VEVENT
DTSTART;TZID=America/New_York:20250825T173000
DTEND;TZID=America/New_York:20250825T183000
DTSTAMP:20260421T082133
CREATED:20250726T205459Z
LAST-MODIFIED:20250726T205459Z
UID:10000012-1756143000-1756146600@indivisiblehinghamhull.org
SUMMARY:Stand Out at Derby Street Hingham
DESCRIPTION:Bring a sign\, a flag\, a friend or all three – we will be near Bertucci’s at Derby Street.
URL:https://indivisiblehinghamhull.org/event/stand-out-at-derby-street-hingham/
LOCATION:Derby Street Near Bertuccis\, 90 Derby Street\, Hingham\, 02043\, United States
CATEGORIES:Rallies & Standouts
ATTACH;FMTTYPE=image/jpeg:https://indivisiblehinghamhull.org/wp-content/uploads/2025/07/standout-image-placeholder.jpg
ORGANIZER;CN="Indivisible Hingham Hull":MAILTO:info@indivisiblehinghamhull.org
END:VEVENT
BEGIN:VEVENT
DTSTART;TZID=America/New_York:20250821T173000
DTEND;TZID=America/New_York:20250821T183000
DTSTAMP:20260421T082133
CREATED:20250815T165328Z
LAST-MODIFIED:20250815T165328Z
UID:10000019-1755797400-1755801000@indivisiblehinghamhull.org
SUMMARY:Standout in Hull!
DESCRIPTION:Keep up the good work peacefully protesting the rise of authoritarianism. We will be near the DCR parking lot/beach across from the Red Parrot!
URL:https://indivisiblehinghamhull.org/event/standout-in-hull-4/
LOCATION:Across from Red Parrot\, Hull\, MA\, United States
CATEGORIES:Rallies & Standouts
ATTACH;FMTTYPE=image/jpeg:https://indivisiblehinghamhull.org/wp-content/uploads/2025/08/Hull-Standout-august-Jennifer-Lynn-Photography.jpg
ORGANIZER;CN="Indivisible Hingham Hull":MAILTO:info@indivisiblehinghamhull.org
END:VEVENT
BEGIN:VEVENT
DTSTART;TZID=America/New_York:20250820T103000
DTEND;TZID=America/New_York:20250820T113000
DTSTAMP:20260421T082133
CREATED:20250815T165643Z
LAST-MODIFIED:20250815T165651Z
UID:10000022-1755685800-1755689400@indivisiblehinghamhull.org
SUMMARY:Stand Up\, Speak Out in Hingham Square
DESCRIPTION:Bring a sign\, a flag\, a friend or all three!
URL:https://indivisiblehinghamhull.org/event/stand-up-speak-out-in-hingham-square-3/
LOCATION:Hingham Square\, North Street\, Hingham\, MA\, 02043\, United States
CATEGORIES:Rallies & Standouts
ATTACH;FMTTYPE=image/jpeg:https://indivisiblehinghamhull.org/wp-content/uploads/2025/07/stand-up-speak-out-logo.jpg
END:VEVENT
BEGIN:VEVENT
DTSTART;TZID=America/New_York:20250814T173000
DTEND;TZID=America/New_York:20250814T183000
DTSTAMP:20260421T082133
CREATED:20250805T163739Z
LAST-MODIFIED:20250805T164954Z
UID:10000018-1755192600-1755196200@indivisiblehinghamhull.org
SUMMARY:Standout in Hull
DESCRIPTION:Keep up the good work peacefully protesting the rise of authoritarianism. We will be near the DCR parking lot/beach across from the Red Parrot!
URL:https://indivisiblehinghamhull.org/event/standout-in-hull-3/
LOCATION:Across from Red Parrot\, Hull\, MA\, United States
CATEGORIES:Rallies & Standouts
ATTACH;FMTTYPE=image/jpeg:https://indivisiblehinghamhull.org/wp-content/uploads/2025/07/standout-image-placeholder.jpg
END:VEVENT
BEGIN:VEVENT
DTSTART;TZID=America/New_York:20250813T200000
DTEND;TZID=America/New_York:20250813T210000
DTSTAMP:20260421T082133
CREATED:20250707T190631Z
LAST-MODIFIED:20250707T190717Z
UID:10000004-1755115200-1755118800@indivisiblehinghamhull.org
SUMMARY:One Million Rising Session 3
DESCRIPTION:Across the country\, authoritarian forces are getting bolder and more dangerous. Trump and his allies are not hiding their agenda: mass deportations\, rollbacks of civil rights\, weaponized courts\, and full-scale attacks on our democracy. We don’t have to wait until it’s too late. We can stop this. But it’ll take all of us—not just on single days of mass action\, but through sustained organizing in our communities. \nThat’s why this summer\, we’re launching One Million Rising—a national effort to train one million people in the strategic logic and practice of non-cooperation\, as well as the basics of community organizing and campaign design. This is how we build people power that can’t be ignored. You’re invited to join us—and lead. \nLet’s build a force bigger than fear and louder than hate. Let’s get ready. Let’s get organized. Let’s stop Trump. \nSession 3: What Now? – August 13 You’ll be onboarded to basic campaign design and learn how to implement it locally as well as get plugged into our next national campaign work. Your second community resistance gathering will move this action forward.
URL:https://indivisiblehinghamhull.org/event/one-million-rising-session-3/
LOCATION:Indivisible Online Event
CATEGORIES:Virtual Events - Educational
ATTACH;FMTTYPE=image/avif:https://indivisiblehinghamhull.org/wp-content/uploads/2025/07/16x9_Training-Series_OneMillionRising_20250626205705896360.avif
END:VEVENT
BEGIN:VEVENT
DTSTART;TZID=America/New_York:20250813T103000
DTEND;TZID=America/New_York:20250813T113000
DTSTAMP:20260421T082133
CREATED:20250729T194159Z
LAST-MODIFIED:20250729T194526Z
UID:10000015-1755081000-1755084600@indivisiblehinghamhull.org
SUMMARY:Stand Up Speak Out Hingham Square
DESCRIPTION:Bring a sign\, a flag\, a friend or all three!
URL:https://indivisiblehinghamhull.org/event/stand-up-speak-out-hingham-square/
LOCATION:Hingham Square\, North Street\, Hingham\, MA\, 02043\, United States
CATEGORIES:Rallies & Standouts
ATTACH;FMTTYPE=image/jpeg:https://indivisiblehinghamhull.org/wp-content/uploads/2025/07/stand-up-speak-out-logo.jpg
END:VEVENT
BEGIN:VEVENT
DTSTART;TZID=America/New_York:20250811T173000
DTEND;TZID=America/New_York:20250811T183000
DTSTAMP:20260421T082133
CREATED:20250726T205402Z
LAST-MODIFIED:20250726T205402Z
UID:10000011-1754933400-1754937000@indivisiblehinghamhull.org
SUMMARY:Stand Out at Derby Street
DESCRIPTION:Bring a sign\, a flag\, a friend or all three – we will be near Bertucci’s at Derby Street.
URL:https://indivisiblehinghamhull.org/event/stand-out-at-derby-street/
LOCATION:Derby Street Near Bertuccis\, 90 Derby Street\, Hingham\, 02043\, United States
CATEGORIES:Rallies & Standouts
ATTACH;FMTTYPE=image/jpeg:https://indivisiblehinghamhull.org/wp-content/uploads/2025/07/standout-image-placeholder.jpg
ORGANIZER;CN="Indivisible Hingham Hull":MAILTO:info@indivisiblehinghamhull.org
END:VEVENT
BEGIN:VEVENT
DTSTART;TZID=America/New_York:20250809T100000
DTEND;TZID=America/New_York:20250809T113000
DTSTAMP:20260421T082133
CREATED:20250729T194502Z
LAST-MODIFIED:20250729T194502Z
UID:10000016-1754733600-1754739000@indivisiblehinghamhull.org
SUMMARY:Stand Up\, Speak Out Hingham Beach
DESCRIPTION:Bring a sign\, a flag\, a friend or all three!
URL:https://indivisiblehinghamhull.org/event/stand-up-speak-out-hingham-beach/
LOCATION:Hingham Harbor Bandstand (3A)\, Otis Street\, Hingham\, MA\, 02043\, United States
CATEGORIES:Rallies & Standouts
ATTACH;FMTTYPE=image/jpeg:https://indivisiblehinghamhull.org/wp-content/uploads/2025/07/stand-up-speak-out-logo.jpg
END:VEVENT
BEGIN:VEVENT
DTSTART;TZID=America/New_York:20250807T173000
DTEND;TZID=America/New_York:20250807T183000
DTSTAMP:20260421T082133
CREATED:20250729T194645Z
LAST-MODIFIED:20250805T163649Z
UID:10000017-1754587800-1754591400@indivisiblehinghamhull.org
SUMMARY:Standout in Hull
DESCRIPTION:We will be near the DCR parking lot/beach across from the Red Parrot!
URL:https://indivisiblehinghamhull.org/event/standout-in-hull-2/
LOCATION:Across from Red Parrot\, Hull\, MA\, United States
CATEGORIES:Rallies & Standouts
ATTACH;FMTTYPE=image/jpeg:https://indivisiblehinghamhull.org/wp-content/uploads/2025/07/standout-image-placeholder.jpg
ORGANIZER;CN="Indivisible Hingham Hull":MAILTO:info@indivisiblehinghamhull.org
END:VEVENT
BEGIN:VEVENT
DTSTART;TZID=America/New_York:20250806T103000
DTEND;TZID=America/New_York:20250806T113000
DTSTAMP:20260421T082133
CREATED:20250726T205757Z
LAST-MODIFIED:20250729T194121Z
UID:10000014-1754476200-1754479800@indivisiblehinghamhull.org
SUMMARY:Stand Up Speak Out in Hingham Square
DESCRIPTION:Bring a sign\, a flag\, a friend or all three!
URL:https://indivisiblehinghamhull.org/event/stand-up-speak-out-in-hingham-square-2/
LOCATION:Hingham Square\, North Street\, Hingham\, MA\, 02043\, United States
CATEGORIES:Rallies & Standouts
ATTACH;FMTTYPE=image/jpeg:https://indivisiblehinghamhull.org/wp-content/uploads/2025/07/stand-up-speak-out-logo.jpg
END:VEVENT
BEGIN:VEVENT
DTSTART;TZID=America/New_York:20250731T173000
DTEND;TZID=America/New_York:20250731T183000
DTSTAMP:20260421T082133
CREATED:20250726T205654Z
LAST-MODIFIED:20250728T193438Z
UID:10000013-1753983000-1753986600@indivisiblehinghamhull.org
SUMMARY:Standout in Hull
DESCRIPTION:We will be near Mezzo Mare (if you are facing the beach\, we will be on the sidewalk to the left of the volleyball courts).
URL:https://indivisiblehinghamhull.org/event/standout-in-hull/
LOCATION:Across from Red Parrot\, Hull\, MA\, United States
CATEGORIES:Rallies & Standouts
ATTACH;FMTTYPE=image/jpeg:https://indivisiblehinghamhull.org/wp-content/uploads/2025/07/standout-image-placeholder.jpg
ORGANIZER;CN="Indivisible Hingham Hull":MAILTO:info@indivisiblehinghamhull.org
END:VEVENT
BEGIN:VEVENT
DTSTART;TZID=America/New_York:20250730T200000
DTEND;TZID=America/New_York:20250730T210000
DTSTAMP:20260421T082133
CREATED:20250707T190539Z
LAST-MODIFIED:20250707T190752Z
UID:10000003-1753905600-1753909200@indivisiblehinghamhull.org
SUMMARY:One Million Rising Session 2
DESCRIPTION:Across the country\, authoritarian forces are getting bolder and more dangerous. Trump and his allies are not hiding their agenda: mass deportations\, rollbacks of civil rights\, weaponized courts\, and full-scale attacks on our democracy. We don’t have to wait until it’s too late. We can stop this. But it’ll take all of us—not just on single days of mass action\, but through sustained organizing in our communities. \nThat’s why this summer\, we’re launching One Million Rising—a national effort to train one million people in the strategic logic and practice of non-cooperation\, as well as the basics of community organizing and campaign design. This is how we build people power that can’t be ignored. You’re invited to join us—and lead. \nLet’s build a force bigger than fear and louder than hate. Let’s get ready. Let’s get organized. Let’s stop Trump. \nSession 2: How to Make it Happen – July 30 This train-the-trainer session is how we get to one million. Learn not just our strategy\, but how you can train others and get them on board. You’ll host your first community resistance gathering after this session.
URL:https://indivisiblehinghamhull.org/event/one-million-rising-session-2/
LOCATION:Indivisible Online Event
CATEGORIES:Virtual Events - Educational
ATTACH;FMTTYPE=image/avif:https://indivisiblehinghamhull.org/wp-content/uploads/2025/07/16x9_Training-Series_OneMillionRising_20250626205705896360.avif
END:VEVENT
BEGIN:VEVENT
DTSTART;TZID=America/New_York:20250730T103000
DTEND;TZID=America/New_York:20250730T113000
DTSTAMP:20260421T082133
CREATED:20250717T175917Z
LAST-MODIFIED:20250717T190029Z
UID:10000009-1753871400-1753875000@indivisiblehinghamhull.org
SUMMARY:Stand Up\, Speak Out in Hingham Square
DESCRIPTION:Join Stand Up\, Speak Out in Hingham Square every Wednesday at 10:30am – this is how we fight the silence spiral! Bring your signs\, your energy and your hope!
URL:https://indivisiblehinghamhull.org/event/stand-up-speak-out-in-hingham-square/
LOCATION:Hingham Square\, North Street\, Hingham\, MA\, 02043\, United States
CATEGORIES:Rallies & Standouts
ATTACH;FMTTYPE=image/jpeg:https://indivisiblehinghamhull.org/wp-content/uploads/2025/07/stand-up-speak-out-logo.jpg
END:VEVENT
BEGIN:VEVENT
DTSTART;TZID=America/New_York:20250728T173000
DTEND;TZID=America/New_York:20250728T183000
DTSTAMP:20260421T082133
CREATED:20250726T205308Z
LAST-MODIFIED:20250726T205308Z
UID:10000010-1753723800-1753727400@indivisiblehinghamhull.org
SUMMARY:Standout - South Hingham/Derby Street
DESCRIPTION:Bring a sign\, a flag\, a friend or all three – we will be near Bertucci’s at Derby Street.
URL:https://indivisiblehinghamhull.org/event/standout-south-hingham-derby-street/
LOCATION:Derby Street Near Bertuccis\, 90 Derby Street\, Hingham\, 02043\, United States
CATEGORIES:Rallies & Standouts
ATTACH;FMTTYPE=image/jpeg:https://indivisiblehinghamhull.org/wp-content/uploads/2025/07/standout-image-placeholder.jpg
ORGANIZER;CN="Indivisible Hingham Hull":MAILTO:info@indivisiblehinghamhull.org
END:VEVENT
BEGIN:VEVENT
DTSTART;TZID=America/New_York:20250724T173000
DTEND;TZID=America/New_York:20250724T190000
DTSTAMP:20260421T082133
CREATED:20250717T175433Z
LAST-MODIFIED:20250717T175727Z
UID:10000007-1753378200-1753383600@indivisiblehinghamhull.org
SUMMARY:Hull Standout
DESCRIPTION:Bring your signs out to Hull to rally for democracy!
URL:https://indivisiblehinghamhull.org/event/hull-standout/
LOCATION:Across from Red Parrot\, Hull\, MA\, United States
CATEGORIES:Rallies & Standouts
ATTACH;FMTTYPE=image/jpeg:https://indivisiblehinghamhull.org/wp-content/uploads/2025/07/standout-image-placeholder.jpg
ORGANIZER;CN="Indivisible Hingham Hull":MAILTO:info@indivisiblehinghamhull.org
END:VEVENT
BEGIN:VEVENT
DTSTART;TZID=America/New_York:20250723T103000
DTEND;TZID=America/New_York:20250723T113000
DTSTAMP:20260421T082133
CREATED:20250717T175832Z
LAST-MODIFIED:20250717T180849Z
UID:10000008-1753266600-1753270200@indivisiblehinghamhull.org
SUMMARY:Stand Up\, Speak Out!
DESCRIPTION:Join Stand Up\, Speak Out in Hingham Square every Wednesday at 10:30am – this is how we fight the silence spiral! Bring your signs\, your energy and your hope!
URL:https://indivisiblehinghamhull.org/event/stand-up-speak-out-3/
LOCATION:Hingham Square\, North Street\, Hingham\, MA\, 02043\, United States
CATEGORIES:Rallies & Standouts
ATTACH;FMTTYPE=image/jpeg:https://indivisiblehinghamhull.org/wp-content/uploads/2025/07/stand-up-speak-out-logo.jpg
END:VEVENT
BEGIN:VEVENT
DTSTART;TZID=America/New_York:20250717T163000
DTEND;TZID=America/New_York:20250717T203000
DTSTAMP:20260421T082133
CREATED:20250707T174516Z
LAST-MODIFIED:20250707T190035Z
UID:10000001-1752769800-1752784200@indivisiblehinghamhull.org
SUMMARY:Good Trouble Lives On Rally - Boston
DESCRIPTION:Meet your South Shore friends and neighbors at the Hingham Ferry terminal to take the 4:30pm boat into Boston\, where we will walk to the Common for the Good Trouble Lives On rally. Details on the rally here. \nPlease let us know you are coming by registering here.
URL:https://indivisiblehinghamhull.org/event/good-trouble-boston/
LOCATION:Hingham Ferry Terminal\, 28 Shipyard Drive\, Hingham\, MA\, 02043\, United States
CATEGORIES:Rallies & Standouts
ATTACH;FMTTYPE=image/avif:https://indivisiblehinghamhull.org/wp-content/uploads/2025/07/Primary-Graphic_20250611202809988883.avif
ORGANIZER;CN="Indivisible Hingham Hull":MAILTO:info@indivisiblehinghamhull.org
END:VEVENT
BEGIN:VEVENT
DTSTART;TZID=America/New_York:20250716T200000
DTEND;TZID=America/New_York:20250716T210000
DTSTAMP:20260421T082133
CREATED:20250707T190357Z
LAST-MODIFIED:20250707T190357Z
UID:10000002-1752696000-1752699600@indivisiblehinghamhull.org
SUMMARY:One Million Rising Session 1
DESCRIPTION:Across the country\, authoritarian forces are getting bolder and more dangerous. Trump and his allies are not hiding their agenda: mass deportations\, rollbacks of civil rights\, weaponized courts\, and full-scale attacks on our democracy. We don’t have to wait until it’s too late. We can stop this. But it’ll take all of us—not just on single days of mass action\, but through sustained organizing in our communities. \nThat’s why this summer\, we’re launching One Million Rising—a national effort to train one million people in the strategic logic and practice of non-cooperation\, as well as the basics of community organizing and campaign design. This is how we build people power that can’t be ignored. You’re invited to join us—and lead. \nLet’s build a force bigger than fear and louder than hate. Let’s get ready. Let’s get organized. Let’s stop Trump. \nSession 1: The Moment & Your Mission – July 16 Get oriented to making meaning of this moment and the role you can play in coordinated strategic action. \nSession 2: How to Make it Happen – July 30 This train-the-trainer session is how we get to one million. Learn not just our strategy\, but how you can train others and get them on board. You’ll host your first community resistance gathering after this session. \nSession 3: What Now? – August 13 You’ll be onboarded to basic campaign design and learn how to implement it locally as well as get plugged into our next national campaign work. Your second community resistance gathering will move this action forward. \nSign up for all 3 sessions to get the most out of this experience. Watch it live with a friend in person\, and get ready now to host your own community resistance gatherings after the second and third sessions. This is how we get to 1 million!
URL:https://indivisiblehinghamhull.org/event/one-million-rising-session-1/
LOCATION:Indivisible Online Event
CATEGORIES:Virtual Events - Educational
ATTACH;FMTTYPE=image/avif:https://indivisiblehinghamhull.org/wp-content/uploads/2025/07/16x9_Training-Series_OneMillionRising_20250626205705896360.avif
END:VEVENT
END:VCALENDAR