BEGIN:VCALENDAR
VERSION:2.0
PRODID:-//Indivisible Hingham Hull - ECPv6.15.20//NONSGML v1.0//EN
CALSCALE:GREGORIAN
METHOD:PUBLISH
X-WR-CALNAME:Indivisible Hingham Hull
X-ORIGINAL-URL:https://indivisiblehinghamhull.org
X-WR-CALDESC:Events for Indivisible Hingham Hull
REFRESH-INTERVAL;VALUE=DURATION:PT1H
X-Robots-Tag:noindex
X-PUBLISHED-TTL:PT1H
BEGIN:VTIMEZONE
TZID:America/New_York
BEGIN:DAYLIGHT
TZOFFSETFROM:-0500
TZOFFSETTO:-0400
TZNAME:EDT
DTSTART:20240310T070000
END:DAYLIGHT
BEGIN:STANDARD
TZOFFSETFROM:-0400
TZOFFSETTO:-0500
TZNAME:EST
DTSTART:20241103T060000
END:STANDARD
BEGIN:DAYLIGHT
TZOFFSETFROM:-0500
TZOFFSETTO:-0400
TZNAME:EDT
DTSTART:20250309T070000
END:DAYLIGHT
BEGIN:STANDARD
TZOFFSETFROM:-0400
TZOFFSETTO:-0500
TZNAME:EST
DTSTART:20251102T060000
END:STANDARD
BEGIN:DAYLIGHT
TZOFFSETFROM:-0500
TZOFFSETTO:-0400
TZNAME:EDT
DTSTART:20260308T070000
END:DAYLIGHT
BEGIN:STANDARD
TZOFFSETFROM:-0400
TZOFFSETTO:-0500
TZNAME:EST
DTSTART:20261101T060000
END:STANDARD
END:VTIMEZONE
BEGIN:VEVENT
DTSTART;TZID=America/New_York:20250828T173000
DTEND;TZID=America/New_York:20250828T183000
DTSTAMP:20260421T062907
CREATED:20250815T165425Z
LAST-MODIFIED:20250815T165425Z
UID:10000020-1756402200-1756405800@indivisiblehinghamhull.org
SUMMARY:Standout in Hull!
DESCRIPTION:Keep up the good work peacefully protesting the rise of authoritarianism. We will be near the DCR parking lot/beach across from the Red Parrot!
URL:https://indivisiblehinghamhull.org/event/standout-in-hull-5/
LOCATION:Across from Red Parrot\, Hull\, MA\, United States
CATEGORIES:Rallies & Standouts
ATTACH;FMTTYPE=image/jpeg:https://indivisiblehinghamhull.org/wp-content/uploads/2025/08/Hull-Standout-august-Jennifer-Lynn-Photography.jpg
ORGANIZER;CN="Indivisible Hingham Hull":MAILTO:info@indivisiblehinghamhull.org
END:VEVENT
BEGIN:VEVENT
DTSTART;TZID=America/New_York:20250821T173000
DTEND;TZID=America/New_York:20250821T183000
DTSTAMP:20260421T062907
CREATED:20250815T165328Z
LAST-MODIFIED:20250815T165328Z
UID:10000019-1755797400-1755801000@indivisiblehinghamhull.org
SUMMARY:Standout in Hull!
DESCRIPTION:Keep up the good work peacefully protesting the rise of authoritarianism. We will be near the DCR parking lot/beach across from the Red Parrot!
URL:https://indivisiblehinghamhull.org/event/standout-in-hull-4/
LOCATION:Across from Red Parrot\, Hull\, MA\, United States
CATEGORIES:Rallies & Standouts
ATTACH;FMTTYPE=image/jpeg:https://indivisiblehinghamhull.org/wp-content/uploads/2025/08/Hull-Standout-august-Jennifer-Lynn-Photography.jpg
ORGANIZER;CN="Indivisible Hingham Hull":MAILTO:info@indivisiblehinghamhull.org
END:VEVENT
BEGIN:VEVENT
DTSTART;TZID=America/New_York:20250814T173000
DTEND;TZID=America/New_York:20250814T183000
DTSTAMP:20260421T062907
CREATED:20250805T163739Z
LAST-MODIFIED:20250805T164954Z
UID:10000018-1755192600-1755196200@indivisiblehinghamhull.org
SUMMARY:Standout in Hull
DESCRIPTION:Keep up the good work peacefully protesting the rise of authoritarianism. We will be near the DCR parking lot/beach across from the Red Parrot!
URL:https://indivisiblehinghamhull.org/event/standout-in-hull-3/
LOCATION:Across from Red Parrot\, Hull\, MA\, United States
CATEGORIES:Rallies & Standouts
ATTACH;FMTTYPE=image/jpeg:https://indivisiblehinghamhull.org/wp-content/uploads/2025/07/standout-image-placeholder.jpg
END:VEVENT
BEGIN:VEVENT
DTSTART;TZID=America/New_York:20250807T173000
DTEND;TZID=America/New_York:20250807T183000
DTSTAMP:20260421T062907
CREATED:20250729T194645Z
LAST-MODIFIED:20250805T163649Z
UID:10000017-1754587800-1754591400@indivisiblehinghamhull.org
SUMMARY:Standout in Hull
DESCRIPTION:We will be near the DCR parking lot/beach across from the Red Parrot!
URL:https://indivisiblehinghamhull.org/event/standout-in-hull-2/
LOCATION:Across from Red Parrot\, Hull\, MA\, United States
CATEGORIES:Rallies & Standouts
ATTACH;FMTTYPE=image/jpeg:https://indivisiblehinghamhull.org/wp-content/uploads/2025/07/standout-image-placeholder.jpg
ORGANIZER;CN="Indivisible Hingham Hull":MAILTO:info@indivisiblehinghamhull.org
END:VEVENT
BEGIN:VEVENT
DTSTART;TZID=America/New_York:20250731T173000
DTEND;TZID=America/New_York:20250731T183000
DTSTAMP:20260421T062907
CREATED:20250726T205654Z
LAST-MODIFIED:20250728T193438Z
UID:10000013-1753983000-1753986600@indivisiblehinghamhull.org
SUMMARY:Standout in Hull
DESCRIPTION:We will be near Mezzo Mare (if you are facing the beach\, we will be on the sidewalk to the left of the volleyball courts).
URL:https://indivisiblehinghamhull.org/event/standout-in-hull/
LOCATION:Across from Red Parrot\, Hull\, MA\, United States
CATEGORIES:Rallies & Standouts
ATTACH;FMTTYPE=image/jpeg:https://indivisiblehinghamhull.org/wp-content/uploads/2025/07/standout-image-placeholder.jpg
ORGANIZER;CN="Indivisible Hingham Hull":MAILTO:info@indivisiblehinghamhull.org
END:VEVENT
BEGIN:VEVENT
DTSTART;TZID=America/New_York:20250724T173000
DTEND;TZID=America/New_York:20250724T190000
DTSTAMP:20260421T062907
CREATED:20250717T175433Z
LAST-MODIFIED:20250717T175727Z
UID:10000007-1753378200-1753383600@indivisiblehinghamhull.org
SUMMARY:Hull Standout
DESCRIPTION:Bring your signs out to Hull to rally for democracy!
URL:https://indivisiblehinghamhull.org/event/hull-standout/
LOCATION:Across from Red Parrot\, Hull\, MA\, United States
CATEGORIES:Rallies & Standouts
ATTACH;FMTTYPE=image/jpeg:https://indivisiblehinghamhull.org/wp-content/uploads/2025/07/standout-image-placeholder.jpg
ORGANIZER;CN="Indivisible Hingham Hull":MAILTO:info@indivisiblehinghamhull.org
END:VEVENT
END:VCALENDAR